BEGIN:VCALENDAR
VERSION:2.0
PRODID:-//ChamberMaster//Event Calendar 2.0//EN
METHOD:PUBLISH
X-PUBLISHED-TTL:P3D
REFRESH-INTERVAL:P3D
CALSCALE:GREGORIAN
BEGIN:VEVENT
DTSTART:20260521T120000Z
DTEND:20260521T133000Z
X-MICROSOFT-CDO-ALLDAYEVENT:FALSE
SUMMARY:W2W - Food as Medicine (May2026)
DESCRIPTION:Food as Medicine\nWhat we eat plays a powerful role in how we feel\, function and care for those around us. As the ones often responsible for grocery shopping\, meal planning and preparing food for our partners\, children\, parents\, coworkers and friends\, understanding the impact of nutrition is more important than ever.\n\n\n\nJoin Women2Women this May for Food as Medicine\, where two leading medical organizations in Berks County will come together to share practical\, evidence-based insights on how food can support a healthy\, strong lifestyle.\n\n\n\nWhether you're looking to improve everyday wellness or seeking guidance on nutrition for specific conditions such as cancer\, diabetes or other health concerns\, this program is designed for you.\n\n\n\nOur panel of medical professionals\, dietitians\, and nutritionists will lead an engaging discussion\, offering real-world strategies and answering your questions to help you make more informed choices for yourself and those you care for.\n\n\n\nCome ready to learn\, ask questions and leave empowered to use food as a tool for better health.\n \n\nAs Women2Women celebrates its 15th Anniversary our Crystal Anniversary we're reflecting on the leaders\, stories\, and connections that built this community. Throughout 2026\, each event will feature founding members\, former speakers\, award winners\, and other influential voices who exemplify the impact Women2Women has had on women and Greater Reading over the past 15 years.
X-ALT-DESC;FMTTYPE=text/html:<span style="font-size:18px\;"><span style="color:#800080\;"><strong><span style="font-family:arial\;">Food as Medicine</span></strong></span></span>\n<p data-end="585" data-start="225"><font face="arial"><span style="font-size: 14px\;">What we eat plays a powerful role in how we feel\, function&nbsp\;and care for those around us. As the ones often responsible for grocery shopping\, meal planning&nbsp\;and preparing food for our partners\, children\, parents\, coworkers&nbsp\;and friends\, understanding the impact of nutrition is more important than ever.<br />\n<br />\nJoin Women2Women this May for Food as Medicine\, where two leading medical organizations in Berks County will come together to share practical\, evidence-based insights on how food can support a healthy\, strong lifestyle.<br />\n<br />\nWhether you&#39\;re looking to improve everyday wellness or seeking guidance on nutrition for specific conditions such as cancer\, diabetes&nbsp\;or other health concerns\, this program is designed for you.<br />\n<br />\nOur panel of medical professionals\, dietitians\, and nutritionists will lead an engaging discussion\, offering real-world strategies and answering your questions to help you make more informed choices for yourself and those you care for.<br />\n<br />\nCome ready to learn\, ask questions&nbsp\;and leave empowered to use food as a tool for better health.</span></font></p>\n&nbsp\;\n\n<div style="margin-left:0in\;"><em style="color: rgb(44\, 45\, 48)\; font-family: arial\; font-size: 14px\;">As Women2Women celebrates its 15th Anniversary&mdash\;our Crystal Anniversary&mdash\;we&rsquo\;re reflecting on the leaders\, stories\, and connections that built this community. Throughout 2026\, each event will feature founding members\, former speakers\, award winners\, and other influential voices who exemplify the impact Women2Women has had on women and Greater Reading over the past 15 years.</em></div>\n
LOCATION:Thun Janssen Auditorium at Reading Hospital 6th Ave. & Spruce St.\, Reading
UID:e.1980.12133
SEQUENCE:3
DTSTAMP:20260422T005158Z
URL:https://business.berkswomen2women.com/events/details/w2w-food-as-medicine-may2026-12133
END:VEVENT

END:VCALENDAR
